BEGIN:VCALENDAR
VERSION:2.0
PRODID:-//North Bay Country Dance Society - ECPv5.0.3.1//NONSGML v1.0//EN
CALSCALE:GREGORIAN
METHOD:PUBLISH
X-WR-CALNAME:North Bay Country Dance Society
X-ORIGINAL-URL:https://nbcds.org
X-WR-CALDESC:Events for North Bay Country Dance Society
BEGIN:VTIMEZONE
TZID:America/Los_Angeles
BEGIN:DAYLIGHT
TZOFFSETFROM:-0800
TZOFFSETTO:-0700
TZNAME:PDT
DTSTART:20170312T100000
END:DAYLIGHT
BEGIN:STANDARD
TZOFFSETFROM:-0700
TZOFFSETTO:-0800
TZNAME:PST
DTSTART:20171105T090000
END:STANDARD
END:VTIMEZONE
BEGIN:VEVENT
DTSTART;TZID=America/Los_Angeles:20170706T191500
DTEND;TZID=America/Los_Angeles:20170706T210000
DTSTAMP:20260422T011758
CREATED:20170629T175436Z
LAST-MODIFIED:20170629T175906Z
UID:1180-1499368500-1499374800@nbcds.org
SUMMARY:Apple Tree Morris open practice
DESCRIPTION:We’ve decided to open the first practice of each month to anyone who’s interested at having a closer look at Morris dancing…in fact\, anyone who’s interested in trying it out. Wear comfortable clothes and non-marking sneakers\, and prepare to have fun – and a brisk workout! \nWe practice at the Sebastopol Community Center Youth Annex\, from 7:15-9:00 PM. For more information\, call (707-823-6925) or email  (cliff@kichu.com) Cliff Stevens \n
URL:https://nbcds.org/event/apple-tree-morris-open-practice/2017-07-06/
LOCATION:Sebastopol Community Center Youth Annex\, 425 Morris St.\, Sebastopol\, CA\, 95472\, United States
ORGANIZER;CN="Cyprian%20Stevens":MAILTO:cyprianstevens@gmail.com
GEO:38.4087979;-122.820328
X-APPLE-STRUCTURED-LOCATION;VALUE=URI;X-ADDRESS=Sebastopol Community Center Youth Annex 425 Morris St. Sebastopol CA 95472 United States;X-APPLE-RADIUS=500;X-TITLE=425 Morris St.:geo:-122.820328,38.4087979
END:VEVENT
END:VCALENDAR