BEGIN:VCALENDAR
VERSION:2.0
PRODID:-//North Bay Country Dance Society - ECPv5.0.3.1//NONSGML v1.0//EN
CALSCALE:GREGORIAN
METHOD:PUBLISH
X-WR-CALNAME:North Bay Country Dance Society
X-ORIGINAL-URL:https://nbcds.org
X-WR-CALDESC:Events for North Bay Country Dance Society
BEGIN:VTIMEZONE
TZID:America/Los_Angeles
BEGIN:DAYLIGHT
TZOFFSETFROM:-0800
TZOFFSETTO:-0700
TZNAME:PDT
DTSTART:20170312T100000
END:DAYLIGHT
BEGIN:STANDARD
TZOFFSETFROM:-0700
TZOFFSETTO:-0800
TZNAME:PST
DTSTART:20171105T090000
END:STANDARD
END:VTIMEZONE
BEGIN:VEVENT
DTSTART;TZID=America/Los_Angeles:20170730T140000
DTEND;TZID=America/Los_Angeles:20170730T163000
DTSTAMP:20260422T081741
CREATED:20170621T001838Z
LAST-MODIFIED:20170724T175746Z
UID:1155-1501423200-1501432200@nbcds.org
SUMMARY:No Advanced Sebastopol English Country Dance
DESCRIPTION:Fifth Sunday Advanced ECD canceled this month due to prior booking by another dance group.  Please join us for the next opportunity on October 29th. \n
URL:https://nbcds.org/event/advanced-sebastopol-english-country-dance/
LOCATION:Wischemann Hall\, 465 Morris St.\, Sebastopol\, CA\, United States
ORGANIZER;CN="Kathy%20Woeltjen":MAILTO:kwoeltjen@yahoo.com
GEO:38.4086229;-122.8208861
X-APPLE-STRUCTURED-LOCATION;VALUE=URI;X-ADDRESS=Wischemann Hall 465 Morris St. Sebastopol CA United States;X-APPLE-RADIUS=500;X-TITLE=465 Morris St.:geo:-122.8208861,38.4086229
END:VEVENT
END:VCALENDAR