BEGIN:VCALENDAR
VERSION:2.0
PRODID:-//North Bay Country Dance Society - ECPv5.0.3.1//NONSGML v1.0//EN
CALSCALE:GREGORIAN
METHOD:PUBLISH
X-WR-CALNAME:North Bay Country Dance Society
X-ORIGINAL-URL:https://nbcds.org
X-WR-CALDESC:Events for North Bay Country Dance Society
BEGIN:VTIMEZONE
TZID:America/Los_Angeles
BEGIN:DAYLIGHT
TZOFFSETFROM:-0800
TZOFFSETTO:-0700
TZNAME:PDT
DTSTART:20170312T100000
END:DAYLIGHT
BEGIN:STANDARD
TZOFFSETFROM:-0700
TZOFFSETTO:-0800
TZNAME:PST
DTSTART:20171105T090000
END:STANDARD
END:VTIMEZONE
BEGIN:VEVENT
DTSTART;TZID=America/Los_Angeles:20170519T140000
DTEND;TZID=America/Los_Angeles:20170521T120000
DTSTAMP:20260421T084017
CREATED:20170412T005720Z
LAST-MODIFIED:20170412T005720Z
UID:792-1495202400-1495368000@nbcds.org
SUMMARY:2017 California Qu'Ale
DESCRIPTION:Each year the West Coast Morris dance teams gather for an Ale – a weekend of dancing\, socializing\, and responsible consumption of malt beverages (thus the name). This year’s host is your own Apple Tree Morris\, who will be welcoming teams from Washington\, Oregon\, and the length of California – and one lone outlier from Massachusetts – on the weekend of May 19-21. We’ll be gathering at the CYO Retreat Center in Occidental (a private event)\, but essaying out on a grand public tour on Saturday the 20th\, with stops planned in Sebastopol\, Santa Rosa\, and the Russian River area. Come join in the merriment! Details of the tour are still being finalized\, so check the official California Ale website for updates\, or call Cliff Stevens for details. \n
URL:https://nbcds.org/event/2017-california-quale/
END:VEVENT
END:VCALENDAR